BEGIN:VCALENDAR
PRODID:Hochschule für Musik Freiburg/NEWS/DETAIL.ICS
VERSION:2.0
METHOD:PUBLISH
BEGIN:VTIMEZONE
TZID:Europe/Berlin
X-LIC-LOCATION:Europe/Berlin
BEGIN:DAYLIGHT
TZOFFSETFROM:+0100
TZOFFSETTO:+0200
TZNAME:CEST
DTSTART:19700329T020000
RRULE:FREQ=YEARLY;BYDAY=-1SU;BYMONTH=3
END:DAYLIGHT
BEGIN:STANDARD
TZOFFSETFROM:+0200
TZOFFSETTO:+0100
TZNAME:CET
DTSTART:19701025T030000
RRULE:FREQ=YEARLY;BYDAY=-1SU;BYMONTH=10
END:STANDARD
END:VTIMEZONE
BEGIN:VEVENT
UID:EVENT-9718@www.mh-freiburg.de
SUMMARY:Konzertexamen von Jieru Ma
CLASS:PUBLIC
DTSTAMP;TZID=Europe/Berlin:20260401T092826
DTSTART;TZID=Europe/Berlin:20260429T190000
DTEND;TZID=Europe/Berlin:20260429T210000
LOCATION:Hochschule für Musik Freiburg, Wolfgang-Hoffmann-Saal
DESCRIPTION:Schlagzeugklasse Prof. Hakon Stene\n\nMitwirkende  |  Jieru Ma, Tomothée de La Morinerie, Gian Marco Medda, Xianggu Xiao, Hung Hsuan Shen → Schlagzeug \n\nProgramm  |  Emmanuel Séjourné → Calienta (2006) für Marimba und Gitarre  |  Iannis Xenakis → Okho (1989) für drei Perkussionisten  |  Simon Løffler → »e« (2014/17) für drei Ausführende mit Leuchtstoffröhren und Triangeln  |  John Psathas → View from Olympus (2019) für Klavier, Schlagzeug und Tonband\n\n
CATEGORIES:Konzert
END:VEVENT
END:VCALENDAR
