BEGIN:VCALENDAR
PRODID:Hochschule für Musik Freiburg/NEWS/DETAIL.ICS
VERSION:2.0
METHOD:PUBLISH
BEGIN:VTIMEZONE
TZID:Europe/Berlin
X-LIC-LOCATION:Europe/Berlin
BEGIN:DAYLIGHT
TZOFFSETFROM:+0100
TZOFFSETTO:+0200
TZNAME:CEST
DTSTART:19700329T020000
RRULE:FREQ=YEARLY;BYDAY=-1SU;BYMONTH=3
END:DAYLIGHT
BEGIN:STANDARD
TZOFFSETFROM:+0200
TZOFFSETTO:+0100
TZNAME:CET
DTSTART:19701025T030000
RRULE:FREQ=YEARLY;BYDAY=-1SU;BYMONTH=10
END:STANDARD
END:VTIMEZONE
BEGIN:VEVENT
UID:EVENT-9715@www.mh-freiburg.de
SUMMARY:Improvisation – Kompilation – Komposition. Filmmusik zu Beginn des 20. Jahrhunderts 
CLASS:PUBLIC
DTSTAMP;TZID=Europe/Berlin:20260409T154335
DTSTART;TZID=Europe/Berlin:20260427T181500
DTEND;TZID=Europe/Berlin:20260427T201500
LOCATION:Hochschule für Musik Freiburg, Wolfgang-Hoffmann-Saal
DESCRIPTION:FZM-Ringvorlesung »Improvisieren: Spontane Kreativität in Kunst und Alltag« mit Prof. David Franke und Prof. Dr. Dr. Michael Fischer\n\n
CATEGORIES:Zum Thema
END:VEVENT
END:VCALENDAR
