BEGIN:VCALENDAR
PRODID:Hochschule für Musik Freiburg/NEWS/DETAIL.ICS
VERSION:2.0
METHOD:PUBLISH
BEGIN:VTIMEZONE
TZID:Europe/Berlin
X-LIC-LOCATION:Europe/Berlin
BEGIN:DAYLIGHT
TZOFFSETFROM:+0100
TZOFFSETTO:+0200
TZNAME:CEST
DTSTART:19700329T020000
RRULE:FREQ=YEARLY;BYDAY=-1SU;BYMONTH=3
END:DAYLIGHT
BEGIN:STANDARD
TZOFFSETFROM:+0200
TZOFFSETTO:+0100
TZNAME:CET
DTSTART:19701025T030000
RRULE:FREQ=YEARLY;BYDAY=-1SU;BYMONTH=10
END:STANDARD
END:VTIMEZONE
BEGIN:VEVENT
UID:EVENT-9696@www.mh-freiburg.de
SUMMARY: Tabea Zimmermann &amp; Thomas Hoppe
CLASS:PUBLIC
DTSTAMP;TZID=Europe/Berlin:20260410T110042
DTSTART;TZID=Europe/Berlin:20260616T193000
DTEND;TZID=Europe/Berlin:20260616T213000
LOCATION:Hochschule für Musik Freiburg, Wolfgang-Hoffmann-Saal
DESCRIPTION:Albert-Konzert mit Werken von Takemitsu, Ravel, Schubert\n\nMitwirkende  |  Tabea Zimmermann → Viola  |  Thomas Hoppe → Klavier\n\nProgramm  |  Hummel → Violasonate Es-Dur op. 5 Nr. 3  |  Brahms → Violinsonate Nr. 1 G-Dur op. 78 (Fassung für Viola)  |  Reger → Klarinettensonate B-Dur op. 107 (Fassung für Viola)\n\n
CATEGORIES:Fremdveranstaltung
END:VEVENT
END:VCALENDAR
